BEGIN:VCALENDAR
VERSION:2.0
PRODID:-//Cogneon Akademie - ECPv6.15.20//NONSGML v1.0//EN
CALSCALE:GREGORIAN
METHOD:PUBLISH
X-ORIGINAL-URL:https://cogneon.de
X-WR-CALDESC:Veranstaltungen für Cogneon Akademie
REFRESH-INTERVAL;VALUE=DURATION:PT1H
X-Robots-Tag:noindex
X-PUBLISHED-TTL:PT1H
BEGIN:VTIMEZONE
TZID:Europe/Berlin
BEGIN:DAYLIGHT
TZOFFSETFROM:+0100
TZOFFSETTO:+0200
TZNAME:CEST
DTSTART:20190331T010000
END:DAYLIGHT
BEGIN:STANDARD
TZOFFSETFROM:+0200
TZOFFSETTO:+0100
TZNAME:CET
DTSTART:20191027T010000
END:STANDARD
BEGIN:DAYLIGHT
TZOFFSETFROM:+0100
TZOFFSETTO:+0200
TZNAME:CEST
DTSTART:20200329T010000
END:DAYLIGHT
BEGIN:STANDARD
TZOFFSETFROM:+0200
TZOFFSETTO:+0100
TZNAME:CET
DTSTART:20201025T010000
END:STANDARD
BEGIN:DAYLIGHT
TZOFFSETFROM:+0100
TZOFFSETTO:+0200
TZNAME:CEST
DTSTART:20210328T010000
END:DAYLIGHT
BEGIN:STANDARD
TZOFFSETFROM:+0200
TZOFFSETTO:+0100
TZNAME:CET
DTSTART:20211031T010000
END:STANDARD
BEGIN:DAYLIGHT
TZOFFSETFROM:+0100
TZOFFSETTO:+0200
TZNAME:CEST
DTSTART:20220327T010000
END:DAYLIGHT
BEGIN:STANDARD
TZOFFSETFROM:+0200
TZOFFSETTO:+0100
TZNAME:CET
DTSTART:20221030T010000
END:STANDARD
END:VTIMEZONE
BEGIN:VEVENT
DTSTART;TZID=Europe/Berlin:20210330T000000
DTEND;TZID=Europe/Berlin:20211005T235959
DTSTAMP:20260421T185615
CREATED:20210126T082351Z
LAST-MODIFIED:20220908T133224Z
UID:10000306-1617062400-1633478399@cogneon.de
SUMMARY:Cogneon Benchlearning Projekt 2021
DESCRIPTION:Cogneon führt Benchlearning Projekte bereits seit 2012 durch (s.a. ). Ziel der Projekte ist der Erfahrungsaustausch zwischen Organisationen zu ausgewählten Themen in den Bereichen Wissensmanagement und Lernende Organisationen. \nDer Austausch auf Augenhöhe findet zu gemeinsam ausgewählten Themenschwerpunkten in 5 Ganztags-Terminen und mehreren kürzen Treffen dazwischen statt. Die Themen werden beim Kick-off gemeinsam festgelegt. Im Projekt werden neben Erfahrungen auch Inhalte auf vertrauensvoller Basis geteilt\, damit die einzelnen Projektteilnehmer möglichst schnell die Lernkurve in innovativen Themen durchlaufen. \nDas Jahresthema 2021 ist „Arbeiten und Lernen in der hybriden Lernenden Organisation (HYLO)“ mit folgenden Unterthemen (Details werden im Kick-off gemeinsam erarbeitet): \n\nLeading New Ways of Working & Learning: Distant Leadership\, Digital Leadership\nModern Working & Learning Culture & Principles: Open\, Connected\, Transparent\nModern Working & Learning Processes & Routines: Agility\, Barcamps\, WOL\, Retros\, Social Learning\, Video-based Learning\, Podcasts\nModern Working & Learning Environments: ESN\, Microsoft 365\, SharePoint Online\n\nDetails zu Inhalt und Ablauf findet ihr im Benchlearning 2021 Flyer (Frühbucherpreis bis zum 05.02.2021). \n\n                          Über Letzte Artikel   cogblogadmin  Letzte Artikel von cogblogadmin (Alle anzeigen)									Praktikantin bei Cogneon - 4. April 2011													3. MediaWiki-Nutzertreffen in Berlin\, 25.06.2010 - 27. Juni 2010													Cogneon gratuliert: Medical Valley EMN ist einer der Gewinner des Spitzencluster-Wettbewerbs! - 26. Januar 2010
URL:https://cogneon.de/event/cogneon-benchlearning-projekt-2021/
ATTACH;FMTTYPE=image/x-png:https://cogneon.de/wp-content/uploads/2021/01/blp21-key-visual.png
END:VEVENT
BEGIN:VEVENT
DTSTART;TZID=Europe/Berlin:20210303T190000
DTEND;TZID=Europe/Berlin:20210303T230000
DTSTAMP:20260421T185615
CREATED:20210208T123334Z
LAST-MODIFIED:20210303T173657Z
UID:10000308-1614798000-1614812400@cogneon.de
SUMMARY:5. Orange Night am #clc21hh Vorabend
DESCRIPTION:Am 04. März 2021 findet die 5. Orange Night statt. Die Orange Night ist eine Afterwork-Veranstaltung der Cogneon Akademie\, die je nach Anlass und unregelmäßig stattfindet. Die Orange Night findet i.d.R. am Rande anderer Veranstaltungen\, dieses Mal am Vorabend des Corporate Learning Camps statt. Die Orange Night dient dem entspannten\, informellen Austausch. \nDiese Orange Night wird im Clubhouse-Style in einer Audio-only Variante stattfinden. Wir nutzen dafür unseren Audio-Chat-Server COMBLE. \nAblauf: \n\n19:00 Uhr: Soft-Start\, ankommen\, Technik checken\, ein Bierchen holen\n20:00 Uhr: offizieller Start mit kurzer Einführung in COMBLE\nEnde: offen\, stellt sicher\, dass ihr zum #clc21hh Start wach seid :-)\n\nAnleitung\nEine ausführliche Anleitung mit Links findet ihr in unserem offenen Wiki COPEDIA. Die wichtigsten Schritte hier in Kürze: \nVorbereitung: \n\nIhr müsst euch die Software Mumble auf dem Desktop (Windows\, Mac\, Linux) oder dem Smartphone (iOS\, Android) installieren\nFür die Audioaktivierung gibt es drei Modi\, für die ihr euch in der Software entscheiden könnt: 1.) Kontinuierlich\, 2.) Push-to-talk (empfohlen) und 3.) Sprachaktivierung\nHinweis: auf dem Mac muss man die Nutzung von Mumble in den Sicherheitseinstellungen einmalig bestätigen\n\nAutomatische Anmeldung bei COMBLE: \nBei den meisten Clients könnt ihr diesen Link verwenden\, um euch bei COMBLE anzumelden. Ihr müsst dann nur noch einen Benutzernamen wählen (keine Sonderzeichen). Wenn das nicht geht\, verwendet die Beschreibung der manuellen Anmeldung unten: \n[av_button label=’Bei COMBLE anmelden‘ icon_select=’yes‘ icon=’ue85e‘ font=’entypo-fontello‘ link=’manually\,mumble://:audiorocks@meet.cogneon.de/?version=1.3.0′ link_target=“ size=’x-large‘ position=’left‘ label_display=“ title_attr=“ color_options=“ color=’custom‘ custom_bg=’#ff6600′ custom_font=’#ffffff‘ btn_color_bg=’theme-color‘ btn_custom_bg=’#444444′ btn_color_bg_hover=’theme-color-highlight‘ btn_custom_bg_hover=’#444444′ btn_color_font=’theme-color‘ btn_custom_font=’#ffffff‘ id=“ custom_class=“ av_uid=“ admin_preview_bg=“] \nManuelle Anmeldung bei COMBLE: \nUm euch bei COMBLE anzumelden\, müsst ihr folgende Zugangsdaten eingeben: \n \n\nServer: meet.cogneon.de\nPort: 64738\nBenutzername: frei wählbar\, am besten „vornamenachname“\, keine Sonderzeichen\nBezeichnung: COMBLE\n\nDanach könnt ihr euch mit dem Server verbinden\, dafür verwendet ihr das Passwort „audiorocks“. \nTipps & Tricks: \n\nText-to-Speech unter Sprache am besten gleich deaktivieren\, sonst erhaltet ihr viele Audio-Ansagen\nRaumwechsel einfach per Doppelklick auf den Raumnamen\nJeder Raum hat einen Text-Chat\, über den auch Links geteilt werden können\nMit dem Avatar und dem Kommentar könnt ihr euch ein persönliches Profil anlegen\nDurch Rechtsklick auf einen Raumnamen (nur Desktop-Software) könnt ihr temporäre Unterräume anlegen (für Einzelgespräche). Ein temporärer Raum verschwindet automatisch\, sobald die letzte Person ihn verlassen hat\nIm Chat wird gemäß Standardeinstellungen sehr viel angezeigt das könnt ihr über Einstellungen->Benachrichtigungen unter Konsole reduzieren\n\nOnline-Hilfe\nWenn ihr Probleme mit COMBLE habt und Hilfe braucht\, könnt ihr ab 19:00 Uhr jederzeit zum „Online-Helpdesk“ kommen: https://meet.cogneon.de/on5helpdesk (nur 19-20 Uhr besetzt!). \n\n                          Über Letzte Artikel   cogblogadmin  Letzte Artikel von cogblogadmin (Alle anzeigen)									Praktikantin bei Cogneon - 4. April 2011													3. MediaWiki-Nutzertreffen in Berlin\, 25.06.2010 - 27. Juni 2010													Cogneon gratuliert: Medical Valley EMN ist einer der Gewinner des Spitzencluster-Wettbewerbs! - 26. Januar 2010
URL:https://cogneon.de/event/on5/
LOCATION:COMBLE (Online)
ATTACH;FMTTYPE=image/x-png:https://cogneon.de/wp-content/uploads/2021/02/orange-night-5.png
END:VEVENT
BEGIN:VEVENT
DTSTART;TZID=Europe/Berlin:20201005T130000
DTEND;TZID=Europe/Berlin:20201221T140000
DTSTAMP:20260421T185615
CREATED:20200922T115327Z
LAST-MODIFIED:20220908T133243Z
UID:10000304-1601902800-1608559200@cogneon.de
SUMMARY:Learning Circle Experience #1 (Q4/2020)
DESCRIPTION:In der Learning Circle Experience können 100 Personen Circle gründen und begleitet einen Lernpfad des lernOS für Dich Leitfaden durchlaufen. \nDie Learning Circle Experience findet im vierten Quartal 2020 zum ersten Mal statt. Maximal 100 Personen können sich kostenlos anmelden und alleine\, in Lerntandems oder in Circle einen Lernpfad aus dem lernOS für Dich Leitfaden durchlaufen. \nIn Woche 0\, 4\, 8 und 12 gibt es gemeinsame Videokonferenzen über Microsoft Teams\, in denen die anstehenden Aufgaben erklärt und offene Fragen beantwortet werden. Parallel dazu können sich alle Teilnehmer*innen über einen geschlossenen Chat auf der Community-Plattform CONNECT zu ihren Erfahrungen austauschen. \n[av_button label=’Anmelden über Eventbrite‘ icon_select=’yes‘ icon=’ue822′ font=’entypo-fontello‘ link=’manually\,https://www.eventbrite.de/e/learning-circle-experience-1-q42020-tickets-104812208136′ link_target=“ size=’x-large‘ position=’center‘ label_display=“ title_attr=“ color_options=“ color=’custom‘ custom_bg=’#ff6600′ custom_font=’#ffffff‘ btn_color_bg=’theme-color‘ btn_custom_bg=’#444444′ btn_color_bg_hover=’theme-color-highlight‘ btn_custom_bg_hover=’#444444′ btn_color_font=’theme-color‘ btn_custom_font=’#ffffff‘ id=“ custom_class=“ av_uid=“ admin_preview_bg=“] \n\n                          Über Letzte Artikel   cogblogadmin  Letzte Artikel von cogblogadmin (Alle anzeigen)									Praktikantin bei Cogneon - 4. April 2011													3. MediaWiki-Nutzertreffen in Berlin\, 25.06.2010 - 27. Juni 2010													Cogneon gratuliert: Medical Valley EMN ist einer der Gewinner des Spitzencluster-Wettbewerbs! - 26. Januar 2010
URL:https://cogneon.de/event/learning-circle-experience-1-q4-2020/
ATTACH;FMTTYPE=image/x-png:https://cogneon.de/wp-content/uploads/2020/09/Learning-Circle-Experience-Eventbrite.png
END:VEVENT
END:VCALENDAR