BEGIN:VCALENDAR
VERSION:2.0
PRODID:-//Cogneon Akademie - ECPv6.15.20//NONSGML v1.0//EN
CALSCALE:GREGORIAN
METHOD:PUBLISH
X-ORIGINAL-URL:https://cogneon.de
X-WR-CALDESC:Veranstaltungen für Cogneon Akademie
REFRESH-INTERVAL;VALUE=DURATION:PT1H
X-Robots-Tag:noindex
X-PUBLISHED-TTL:PT1H
BEGIN:VTIMEZONE
TZID:Europe/Berlin
BEGIN:DAYLIGHT
TZOFFSETFROM:+0100
TZOFFSETTO:+0200
TZNAME:CEST
DTSTART:20220327T010000
END:DAYLIGHT
BEGIN:STANDARD
TZOFFSETFROM:+0200
TZOFFSETTO:+0100
TZNAME:CET
DTSTART:20221030T010000
END:STANDARD
BEGIN:DAYLIGHT
TZOFFSETFROM:+0100
TZOFFSETTO:+0200
TZNAME:CEST
DTSTART:20230326T010000
END:DAYLIGHT
BEGIN:STANDARD
TZOFFSETFROM:+0200
TZOFFSETTO:+0100
TZNAME:CET
DTSTART:20231029T010000
END:STANDARD
BEGIN:DAYLIGHT
TZOFFSETFROM:+0100
TZOFFSETTO:+0200
TZNAME:CEST
DTSTART:20240331T010000
END:DAYLIGHT
BEGIN:STANDARD
TZOFFSETFROM:+0200
TZOFFSETTO:+0100
TZNAME:CET
DTSTART:20241027T010000
END:STANDARD
END:VTIMEZONE
BEGIN:VEVENT
DTSTART;TZID=Europe/Berlin:20230915T090000
DTEND;TZID=Europe/Berlin:20230915T160000
DTSTAMP:20260423T124115
CREATED:20230911T123748Z
LAST-MODIFIED:20230911T123828Z
UID:10000353-1694768400-1694793600@cogneon.de
SUMMARY:43. KnowledgeJam “Ein Tag an meinem Wissensarbeitsplatz” (#ckj43)
DESCRIPTION:Der 43. CONNECT KnowledgeJam findet am 15.09.2023 von 09:00-16:00 Uhr online statt. Der Jam besteht aus einem offenen Coworking und einem Impulsvortrag zum Thema am Vormittag und 1-2 Session-Runden am Nachmittag. \n\n\n\nThema\n\n\n\nÜber den Lern- und Wissensarbeitsplatz wird selten gesprochen. Wissensarbeiter:innen tauschen selten Erfahrungen\, gute Praktiken und Fuck-ups zu ihren Wissensarbeitsplätzen aus. Das soll bei diesem Jam anders sein! Wir schauen uns ganz bewusst Konfigurationen von Arbeitsplätzen an und sprechen über Vor- und Nachteile. Das können sowohl physische\, als auch virtuelle und mobile Arbeitsplätze mit all ihren Gadgets\, Apps und Anwendungen sein. \n\n\n\nBeim Jam wird es um 11:00 Uhr einen Einblick in den Wissensarbeitsplatz von Simon Dückert geben. Der Impuls ist die Aktualisierung eines Vortrags mit dem gleichen Titel\, der am 27.01.2010(!) beim BITKOM Arbeitskreis Wissensmanagement gehalten wurde. Es verwundert vermutlich nicht\, dass da (fast) kein Stein mehr auf dem anderen Steht 
URL:https://cogneon.de/event/43-knowledgejam-ein-tag-an-meinem-wissensarbeitsplatz-ckj42/
LOCATION:Cogneon Akademie\, Bucherstr. 79a\, Nürnberg\, 90419\, Deutschland
CATEGORIES:KnowledgeJam
ATTACH;FMTTYPE=image/png:https://cogneon.de/wp-content/uploads/2023/09/ckj43-ein-tag-an-meinem-wissensarbeitsplatz.png
END:VEVENT
BEGIN:VEVENT
DTSTART;TZID=Europe/Berlin:20230920T100000
DTEND;TZID=Europe/Berlin:20230920T170000
DTSTAMP:20260423T124115
CREATED:20230121T105455Z
LAST-MODIFIED:20230904T125301Z
UID:10000344-1695204000-1695229200@cogneon.de
SUMMARY:3. Audio-only Barcamp (#audiobc23)
DESCRIPTION:Das 3. Audio-only BarCamp (#audiobc23) am 20.09.2023 (10-17 Uhr) ist ein BarCamp zu Social Audio und Podcasting in Organisationen. Das audiobc23 findet wie letztes Jahr wieder online statt\, dieses Mal mit Discord als Plattform. Weitere Infos folgen. \n\n\n\n\n\nAnmelden\n\n\n\n\nTickets\n\n\n\nInfos
URL:https://cogneon.de/event/3-audio-only-barcamp-audiobc23/
LOCATION:Cogneon Akademie\, Bucherstr. 79a\, Nürnberg\, 90419\, Deutschland
ATTACH;FMTTYPE=image/png:https://cogneon.de/wp-content/uploads/2023/09/audiobc23-key-visual.png
END:VEVENT
BEGIN:VEVENT
DTSTART;TZID=Europe/Berlin:20230920T100000
DTEND;TZID=Europe/Berlin:20230920T170000
DTSTAMP:20260423T124115
CREATED:20240108T155400Z
LAST-MODIFIED:20240108T155710Z
UID:10000363-1695204000-1695229200@cogneon.de
SUMMARY:3. Audio-only Barcamp (#audiobc23)
DESCRIPTION:Das 3. Audio-only BarCamp (#audiobc24) am 20.09.2024 (10-17 Uhr) ist ein BarCamp zu Audio und Podcasting in Organisationen. Das audiobc23 findet wie letztes Jahr wieder online (mit Discord) statt.
URL:https://cogneon.de/event/4-audio-only-barcamp-audiobc24/
LOCATION:Cogneon Akademie\, Bucherstr. 79a\, Nürnberg\, 90419\, Deutschland
END:VEVENT
END:VCALENDAR