BEGIN:VCALENDAR
VERSION:2.0
PRODID:-//Cogneon Akademie - ECPv6.15.20//NONSGML v1.0//EN
CALSCALE:GREGORIAN
METHOD:PUBLISH
X-ORIGINAL-URL:https://cogneon.de
X-WR-CALDESC:Veranstaltungen für Cogneon Akademie
REFRESH-INTERVAL;VALUE=DURATION:PT1H
X-Robots-Tag:noindex
X-PUBLISHED-TTL:PT1H
BEGIN:VTIMEZONE
TZID:Europe/Berlin
BEGIN:DAYLIGHT
TZOFFSETFROM:+0100
TZOFFSETTO:+0200
TZNAME:CEST
DTSTART:20220327T010000
END:DAYLIGHT
BEGIN:STANDARD
TZOFFSETFROM:+0200
TZOFFSETTO:+0100
TZNAME:CET
DTSTART:20221030T010000
END:STANDARD
BEGIN:DAYLIGHT
TZOFFSETFROM:+0100
TZOFFSETTO:+0200
TZNAME:CEST
DTSTART:20230326T010000
END:DAYLIGHT
BEGIN:STANDARD
TZOFFSETFROM:+0200
TZOFFSETTO:+0100
TZNAME:CET
DTSTART:20231029T010000
END:STANDARD
BEGIN:DAYLIGHT
TZOFFSETFROM:+0100
TZOFFSETTO:+0200
TZNAME:CEST
DTSTART:20240331T010000
END:DAYLIGHT
BEGIN:STANDARD
TZOFFSETFROM:+0200
TZOFFSETTO:+0100
TZNAME:CET
DTSTART:20241027T010000
END:STANDARD
END:VTIMEZONE
BEGIN:VEVENT
DTSTART;TZID=Europe/Berlin:20230711T130000
DTEND;TZID=Europe/Berlin:20230712T160000
DTSTAMP:20260423T162746
CREATED:20230127T124908Z
LAST-MODIFIED:20230519T073018Z
UID:10000345-1689080400-1689177600@cogneon.de
SUMMARY:lernOS Convention 2023 "Crafting Learning Environments"
DESCRIPTION:Die lernOS Convention 2023 (#loscon23) findet vom 11.-12. Juli 2023 unter dem Motto „Crafting Learning Environments“ statt. Die loscon23 ist eine hybride Veranstaltung zu lernOS\, Ihr könnt auf der Kaiserburg in Nürnberg oder Online teilnehmen. \n\n\n\n\n\n\n\nAlle Infos zur Veranstaltung folgen unter cogneon.de/loscon23. Ihr könnt zusätzlich @lernos oder dem Hashtag #loscon23 auf Mastodon oder auf Linkedin folgen. Den Frühbucher-Preis gibt es bis zum 31.03.2023.
URL:https://cogneon.de/event/lernos-convention-2023-crafting-learning-environments/
LOCATION:Cogneon Akademie\, Bucherstr. 79a\, Nürnberg\, 90419\, Deutschland
ATTACH;FMTTYPE=image/png:https://cogneon.de/wp-content/uploads/2023/04/loscon23-key-visual.png
END:VEVENT
BEGIN:VEVENT
DTSTART;TZID=Europe/Berlin:20230720T160000
DTEND;TZID=Europe/Berlin:20230720T173000
DTSTAMP:20260423T162746
CREATED:20230714T092100Z
LAST-MODIFIED:20230714T093435Z
UID:10000351-1689868800-1689874200@cogneon.de
SUMMARY:18. C3Managers Meetup am 20.07.2023
DESCRIPTION:Communities verbinden. Warum also nicht Community Manager über Unternehmensgrenzen hinweg zusammenbringen\, um Erfahrungen zu teilen und voneinander zu lernen? Genau darum geht es in den Cross-Company Community Managers Meetups (#C3Managers). In den 3-monatlich stattfindenden Sessions werden unterschiedliche Themen rund um Community Management bearbeitet. \n\n\n\n\nEinwahl MS Teams\n\n\n\nIn Kalender eintragen (ICS)\n\n\n\n\n\n\n\n\nThema 1: Continental: Community Builder Learning Journey (6 Module Video\, Workbook\, Buddy Meetings\, Fire Camps)\n\n\n\nEine lebendige\, engagierte und effektive Community aufzubauen und zu leiten ist nicht selbstverständlich. Eine skalierbare\, interaktive Lernreise\, um tiefer in das Community Building und die Rolle eins Community Builders einzutauchen\, soll diese Kompetenz und Rolle bei Continental stärken. Videos\, Buddies und FireCamps – diese und weitere Bestandteile des Programms\, das Stefanie Suarez ins Leben gerufen hat\, lernt ihr in dieser Session kennen. \n\n\n\nThema 2: Skills Hub @ ZF – Learning Community (in Englisch)\n\n\n\nLearning Community on Digital Fundamentals Megatrends reshape entire societies and force industries to realign their structures\, business models\, processes\, offerings\, and their communication. To turn the resulting challenges intro business opportunities\, ZF started the qualification initiative Skills Hub\, that is focused on guided\, intelligent\, and interactive learning that puts learners and their goals in the center. A strong element is the Skills Hub community that connects learners with internal experts\, motivates to take time for learning through creative challenges and to have fun at the same time. Join this session with Aleksandra Zwolinska and find out more. Let’s navigate the fundamentals of tomorrow’s skills!
URL:https://cogneon.de/event/18-c3managers-meetup-am-20-07-2023/
LOCATION:Cogneon Akademie\, Bucherstr. 79a\, Nürnberg\, 90419\, Deutschland
CATEGORIES:C3Managers Events
ATTACH;FMTTYPE=image/x-png:https://cogneon.de/wp-content/uploads/2021/07/c3managers.png
END:VEVENT
END:VCALENDAR