BEGIN:VCALENDAR
VERSION:2.0
PRODID:-//Cogneon Akademie - ECPv6.15.20//NONSGML v1.0//EN
CALSCALE:GREGORIAN
METHOD:PUBLISH
X-ORIGINAL-URL:https://cogneon.de
X-WR-CALDESC:Veranstaltungen für Cogneon Akademie
REFRESH-INTERVAL;VALUE=DURATION:PT1H
X-Robots-Tag:noindex
X-PUBLISHED-TTL:PT1H
BEGIN:VTIMEZONE
TZID:Europe/Berlin
BEGIN:DAYLIGHT
TZOFFSETFROM:+0100
TZOFFSETTO:+0200
TZNAME:CEST
DTSTART:20220327T010000
END:DAYLIGHT
BEGIN:STANDARD
TZOFFSETFROM:+0200
TZOFFSETTO:+0100
TZNAME:CET
DTSTART:20221030T010000
END:STANDARD
BEGIN:DAYLIGHT
TZOFFSETFROM:+0100
TZOFFSETTO:+0200
TZNAME:CEST
DTSTART:20230326T010000
END:DAYLIGHT
BEGIN:STANDARD
TZOFFSETFROM:+0200
TZOFFSETTO:+0100
TZNAME:CET
DTSTART:20231029T010000
END:STANDARD
BEGIN:DAYLIGHT
TZOFFSETFROM:+0100
TZOFFSETTO:+0200
TZNAME:CEST
DTSTART:20240331T010000
END:DAYLIGHT
BEGIN:STANDARD
TZOFFSETFROM:+0200
TZOFFSETTO:+0100
TZNAME:CET
DTSTART:20241027T010000
END:STANDARD
END:VTIMEZONE
BEGIN:VEVENT
DTSTART;TZID=Europe/Berlin:20230524T100000
DTEND;TZID=Europe/Berlin:20230525T160000
DTSTAMP:20260425T211926
CREATED:20230120T150225Z
LAST-MODIFIED:20230120T153458Z
UID:10000343-1684922400-1685030400@cogneon.de
SUMMARY:Expert Debriefing Praxis-Ausbildung 2023 (Frühjahr)
DESCRIPTION:In Zeiten von Demografischen Wandel\, Fachkräftemangel\, häufigen Job-Rotationen und Positionswechseln ist der der Wissenstransfer ein relevantes Thema für viele Unternehmen und Organisationen. Mit der Methode Expert Debriefing gibt es einen praxiserprobten Ansatz für die systematische Wissensbewahrung. \n\n\n\nZum Erlernen der Expert Debriefing Methode bieten wir unsere Expert Debriefing Praxis-Ausbildung an\, die jährlich im Frühjahr und im Herbst (idR Mai und November) stattfindet. Dabei wir in einem Live-Online-Training (LOT) die Theorie des Expert Debriefings vermittelt\, die dann in einem Online-Kurs vertieft wird. In der 2-tägigen Praxis-Ausbildung durchlaufen die Teilnehmer_innen den vollständigen Prozess am eigenen Praxisbeispiel. \n\n\n\n\n\n\n\nAlle Infos und Buchung auf cogneon.de/edmod.
URL:https://cogneon.de/event/expert-debriefing-praxis-ausbildung-2023-fruehjahr/
LOCATION:Cogneon Akademie\, Bucherstr. 79a\, Nürnberg\, 90419\, Deutschland
ATTACH;FMTTYPE=image/png:https://cogneon.de/wp-content/uploads/2023/01/edmod23a-banner.png
END:VEVENT
END:VCALENDAR