BEGIN:VCALENDAR
VERSION:2.0
PRODID:-//Cogneon Akademie - ECPv6.15.20//NONSGML v1.0//EN
CALSCALE:GREGORIAN
METHOD:PUBLISH
X-WR-CALNAME:Cogneon Akademie
X-ORIGINAL-URL:https://cogneon.de
X-WR-CALDESC:Veranstaltungen für Cogneon Akademie
REFRESH-INTERVAL;VALUE=DURATION:PT1H
X-Robots-Tag:noindex
X-PUBLISHED-TTL:PT1H
BEGIN:VTIMEZONE
TZID:Europe/Berlin
BEGIN:DAYLIGHT
TZOFFSETFROM:+0100
TZOFFSETTO:+0200
TZNAME:CEST
DTSTART:20250330T010000
END:DAYLIGHT
BEGIN:STANDARD
TZOFFSETFROM:+0200
TZOFFSETTO:+0100
TZNAME:CET
DTSTART:20251026T010000
END:STANDARD
BEGIN:DAYLIGHT
TZOFFSETFROM:+0100
TZOFFSETTO:+0200
TZNAME:CEST
DTSTART:20260329T010000
END:DAYLIGHT
BEGIN:STANDARD
TZOFFSETFROM:+0200
TZOFFSETTO:+0100
TZNAME:CET
DTSTART:20261025T010000
END:STANDARD
BEGIN:DAYLIGHT
TZOFFSETFROM:+0100
TZOFFSETTO:+0200
TZNAME:CEST
DTSTART:20270328T010000
END:DAYLIGHT
BEGIN:STANDARD
TZOFFSETFROM:+0200
TZOFFSETTO:+0100
TZNAME:CET
DTSTART:20271031T010000
END:STANDARD
END:VTIMEZONE
BEGIN:VEVENT
DTSTART;TZID=Europe/Berlin:20260414T150000
DTEND;TZID=Europe/Berlin:20261111T170000
DTSTAMP:20260420T034857
CREATED:20251218T094327Z
LAST-MODIFIED:20251218T095233Z
UID:10000451-1776178800-1794416400@cogneon.de
SUMMARY:Benchlearning Projekt 2026 "AI for Work that Works!" (blp26)
DESCRIPTION:Die Cogneon Benchlearning Projekte\, in denen wir gemeinsam mit Unternemen zu einem festgelegten Thema lernen\, gehen mittlerweile in das 14. Jahr. Nachdem wir uns in den letzten beiden Jahren (blp24 und blp25) unter dem Titel „KI für alle“ mit dem Einzug von KI in die Wissensarbeit in Organisationen beschäftigt haben\, gehen wir im blp26 eine Ebene tiefer. \n\n\n\nViele Organisationen haben mittlerweile das Regelwerk geschaffen\, KI-Tools ausgewählt und die Belegschaft in Breite informiert und befähigt. Doch jetzt stellt sich die Frage\, wo wirklich\, wirklich Nutzeffekte entstehen. Die Rufe nach dem ROI\, den wirklichen „game changern“ und den echten Produktivitäts- und Kreativitäts-Boostern werden lauter. \n\n\n\nUm darauf faktenbasierte Antworten zu finden\, werden wir im Benchlearning Projekt auf den Vorarbeiten aufsetzen\, die Studienlage zum Nutzen von KI zusammenstellen und einen Katalog mit praxiserprobten Anwendungsfällen nach Funktionsbereichen (z.B. Entwicklung\, HR\, Kommunikation\, Finanzen\, Innovation) erstellen. \n\n\n\nViele Unternehmen aus blp24 und blp25 bleiben mit dabei\, es gibt aber auch wieder einige wenige freie Plätze. Alle Infos zum Ablauf und zur Anmeldung findet Ihr auf der Landing Page zum Benchlearning Projekt 2026. Bis Ende Januar gibt es dafür auch wieder den Frühbucherrabatt. \n\n\n\n\nInformationen zum blp26\n\n\n\nPer E-Mail anmelden oder Fragen stellen
URL:https://cogneon.de/event/benchlearning-projekt-2026-ai-for-work-that-works-blp26/
END:VEVENT
BEGIN:VEVENT
DTSTART;TZID=Europe/Berlin:20260520T100000
DTEND;TZID=Europe/Berlin:20260521T160000
DTSTAMP:20260420T034857
CREATED:20251218T091629Z
LAST-MODIFIED:20251218T092114Z
UID:10000449-1779271200-1779379200@cogneon.de
SUMMARY:Expert Debriefing Praxis-Ausbildung Frühjahr 2026 (edmod26a)
DESCRIPTION:Das Risiko von Wissensverlust durch Demografischen Wandel\, Fachkräftemangel und längere Abwesenheiten ist groß. Mit der Methode Expert Debriefing bietet die Cogneon Akademie ein seit 1999 praxiserprobtes Verfahren für den systematischen Wissenstransfer an. Über die Praxis-Ausbildung für Expert-Debriefing-Moderator:innen erlernst du die Methode\, erhälst alle Vorlagen und Dokumentationen für die eigene Verwendung und festigst dein Wissen in einem persönlichen Praxis-Projekt. \n\n\n\nHinweis: an der Praxis-Ausbilung kann man vor Ort in Nürnberg (Anfahrt) oder Online per Microsoft Teams teilnehmen. Das zugehörige Live-Online-Training ist am 11.05. von 13:00-13:55 Uhr. \n\n\n\n\nMehr Informationen\n\n\n\nAnmeldung
URL:https://cogneon.de/event/expert-debriefing-praxis-ausbildung-fruehjahr-2026-edmod26a/
ATTACH;FMTTYPE=image/png:https://cogneon.de/wp-content/uploads/2023/10/edmod-banner.png
END:VEVENT
BEGIN:VEVENT
DTSTART;TZID=Europe/Berlin:20260623T100000
DTEND;TZID=Europe/Berlin:20260624T160000
DTSTAMP:20260420T034857
CREATED:20260213T101407Z
LAST-MODIFIED:20260227T103307Z
UID:10000454-1782208800-1782316800@cogneon.de
SUMMARY:10. lernOS Convention 2026 - AI for Work that Works!
DESCRIPTION:Vom 23.-24. Juni 2026 findet die 10. lernOS Convention (Hashtag: #loscon26) auf der Kaiserburg Nürnberg\, in dezentralen Lokationen und Online statt. Das Community-Event zu Wissensmanagement & Lernenden Organisationen steht dieses Mal unter dem Motto „AI for Work that Works!“. \n\n\n\n\nTicket sichern (Frühbucher bis 31.03.2026)!\n\n\n\n\n\n\n\n\n–DAYS–HOURS–MINUTES–SECONDS\n\n\n\n\n\n\n\n\nAI for Work that Works!\n\n\n\nMit Künstlicher Intelligenz und generativer KI haben wir uns schon bei der lernOS Convention 2025 beschäftigt. Seitdem gab es von Microsoft Copilot\, ChatGPT & Co. viele große Ankündigungen\, wie sie die Wissensarbeit revolutionieren wollen und unsere Produktivität\, unsere Kreativität und die Zusammenarbeit im Team deutlich verbessern wollen. Doch was funktioniert in der Praxis wirklich? \n\n\n\n\n\n\n\nIm Vorfeld der lernOS Convention führen wir das AI Crowdsourcing 2026 durch\, bei dem wir aus der Breite funktionierende Anwendungsfälle (Use Cases) sammeln. Diese können dann von Euch in der Praxis ausprobiert und bewertet werden. Die Top-Anwendungsfälle stellen wir dann in einem Impulsvortrag auf der lernOS Convention inkl. Beschreibungen\, Beispielprompts und Tipps&Tricks exklusiv vor – damit KI in der täglichen Arbeit wirklich\, wirklich funktioniert! \n\n\n\n\n\n\n\n\nloscon26 News\n\n\n\n\n\n\n\n			\n\n																				\n														\n									\n						\n				AI Crowdsourcing 2026 – Gemeinsam die wirklich nützlichen KI-Anwendungen finden!\n			\n						\n								\n									29. Januar 2026				\n							\n									Keine Kommentare				\n						\n							\n					Alle fühlen gerade\, dass wir bei Künstlicher Intelligenz im Hype Cycle über den Berg der überzogenen…				\n						\n				Weiterlesen\n			\n			\n									\n											\n			\n\n\n\n\n\n\nDas Format der lernOS Convention\n\n\n\nDie lernOS Convention ist eine Multiformat-Veranstaltung mit Elementen von Konferenzen\, Barcamps und hybriden Lern-Veranstaltungen. So ist für alle etwas dabei\, egal ob ihr Input sucht\, Praxiserfahrungen in Workshops sammeln wollt\, Lessons Learned aus einem Projekt präsentieren oder einfach nur Fragen stellen und diskutieren wollt. Nur eines wollen wir nicht: Werbung. \n\n\n\n📣 Impulsvorträge geben Euch einen fundierten Einstieg in das Thema \n\n\n\n👩‍💻 Im Makeathon lernt Ihr die Macht von Vibe Coding & Vibe Working für Euren Arbeitsalltag kennen \n\n\n\n⚡️ Lightning Talks geben blitzlichtartig Einblick in viele Themenfelder und unterstützen die Vernetzung \n\n\n\n⏲️ Selbst-organisierte Sessions könnt Ihr in den bereitgestellten Zeitfenstern selbst eintragen und das Format frei wählen \n\n\n\n⚙️ Vorträge und Workshops geben Euch vertiefende Einblicke in Themen und lassen euch Skills praxisnah trainineren \n\n\n\n🎙️ Am Podcast-Tisch können tiefe Gespräche über Erfahrungen und Ideen & Vision stattfinden \n\n\n\n🗓️ Die Barcamp-Sessions bestimmen wir am zweiten Tag gemeinsam \n\n\n\nDie lernOS Convention ist „perfectly hybrid“\, d.h. Ihr könnt vor Ort in Nürnberg oder online teilnehmen. Es wird außerdem an ausgewählten Lokationen dezentrale Satelliten geben\, damit ihr in kleineren Gruppen gemeinsam lernen könnt. Bisher gibt es Meldungen für München\, Berlin und Hamburg. Wenn ihr in Eurem Ort oder Eurer Organisation so einen Satellit anbieten wollt\, sprecht uns gerne an. \n\n\n\n\nDer Veranstaltungsort – online & offline!\n\n\n\nDie lernOS Convention findet seit 2022 auf der Kaiserburg in Nürnberg eingebettet in das Nürnberg Digital Festival statt. Mit der Bühne im mittelalterlichen Eppeleinsaal\, den verglasten Workshop-Räumen\, dem geräumigen Foyer und dem schönen Außenbereich bietet die Burg die perfekte Lokation für eine interaktive Community-Veranstaltung. \n\n\n\n\n\n\n\n\n\n\n\n\n\nFür die Online-Teilnahme verwenden wir Microsoft Teams. Das sind viele von Euch aus dem Arbeitsalltag gewohnt\, was einen reibungslosen Ablauf gewährleistet. Für den interaktiven Austausch aller Teilnehmenden -egal ob online\, im Satellit oder vor Ort- verwenden wir einen exklusiven Discord-Server. \n\n\n\n\n\n\n\n\nJetzt Plätze sichern und unterstützen!\n\n\n\nBis zum 31. März gibt es noch den Frühbucherpreis für die Anmeldung. Falls Ihr die Veranstaltung und das lernOS Projekt mit Eurer Organisation unterstützen wollt\, könnt Ihr überlegen\, lernOS Supporter zu werden (Anfrage stellen). Für € 1.000\,- erhaltet Ihr drei Freitickets zur Veranstaltung und Eure Organisation wird im Rahmen der Veranstaltung sichtbar. \n\n\n\nHinweis: wenn Dein Unternehmen per Rechnung/Überweisung zahlen möchte\, wähle einfach bei der Bestrellung „Banküberweisung“ als Option. Du bekommst dann eine PDF-Rechnung als Download zum Einreichen. \n\n\n\n\n\n   \n        \n            JavaScript ist in Ihrem Browser deaktiviert. Um unseren Ticketshop ohne JavaScript aufzurufen\, klicken Sie bitte hier.
URL:https://cogneon.de/event/lernos-convention-2026-ai-for-work-that-works/
CATEGORIES:lernOS Convention
END:VEVENT
BEGIN:VEVENT
DTSTART;TZID=Europe/Berlin:20260923T100000
DTEND;TZID=Europe/Berlin:20260923T173000
DTSTAMP:20260420T034857
CREATED:20260325T143537Z
LAST-MODIFIED:20260325T211119Z
UID:10000456-1790157600-1790184600@cogneon.de
SUMMARY:WissensTransferMasterclass 2026 - Geballtes Praxiswissen zu Wissenstransfer & Wissensbewahrung
DESCRIPTION:Das 3. WissensTransferCamp (#wtc26\, 24.09.) ist die zentrale Veranstaltung für die Themen Wissenstransfer & Wissensbewahrung in Organisationen im deutschsprachigen Raum. Sie ist aus dem Expert Debriefing Moderator:innen Meetup hervorgegangen\, das über die Pandemie „eingeschlafen“ ist. Mit der vorgelagerten WissensTransferMasterclass (23.09.)\, in der vier langjährige Expert:innen tiefe Einblicke in ihre Praxis geben\, bieten die zwei Tage geballtes Wissen aus der Praxis. Beide Veranstaltungen können unabhängig voneinander gebucht werden\, die Masterclass ist in Präsenz\, beim Barcamp ist hybride Teilnahme per Microsoft Teams möglich. \n\n\n\n\n\n\n\n\n\n\n\n\nTicket kaufen\n\n\n\n\n–DAYS–HOURS–MINUTES–SECONDS\n\n\n\n\n\n\n\n\n\n\n\n„Experience first“\, das ist das Motto unserer WissensTransferMasterclass\, die dieses Jahr zum ersten Mal stattfindet. Vier Praktiker:innen mit langjähriger und umfassender Erfahrung geben tiefe Einblicke in ihren Erfahrungsschatz zum Thema Wissenstransfer. Jeder hat seinen inhaltlichen Schwerpunkt und setzt damit wichtige Impulse. Impuls\, Vertiefung und ausreichende inhaltliche Auseinandersetzung: Nach diesem Muster navigieren wir in die Tiefe. Die Teilnahme an der Masterclass ist nur vor Ort in Nürnberg möglich. \n\n\n\nZeitThemaPraktiker:in10:00👋 Start & Begrüßung10:15🧑‍🎓 LESSON 1: Thema noch offenChristian Keller (synartiq)11:30🍝 Mittagspause für Austausch und Vernetzung (Essen im Preis enthalten)12:45🧑‍🎓 LESSON 2: Thema noch offen14:00☕ Pause für Austausch und Vernetzung14:15🧑‍🎓 LESSON 3: Thema noch offenSimon Dückert (Cogneon)15:30☕ Pause für Austausch und Vernetzung15:45🧑‍🎓 LESSON 4: Thema noch offen17:00🥳 Gemeinsamer Abschluss17:30🔚 Ende der Masterclass19:00🍻 Optional: gemeinsames Abendessen optional (mit wtc25 Teilnehmer:innen\, extra buchbar)\n\n\n\n\n\n\n\nSponsoren\n\n\n\n\n\n\n\n\n\n\n\nsynartIQ befähigt Menschen und Organisationen\, Wissen zu teilen\, zu entwickeln und zu bewahren\, um den Verlust dieser wertvollen Ressource zu verhindern. Im Rahmen des WTC wird Christian Keller die Lektion „Organisationale Verankerung von Wissenstransfer“ in der Masterclass vorstellen. \n\n\n\n\n\n\n\n\n\n\n\n\n\nAls Ausgründung des Lehrstuhls für Künstliche Intelligenz der Friedrich-Alexander-Universität Erlangen-Nürnberg hat Cogneon mit dem Expert Debriefing einen Standardprozess des Wissenstransfers definiert und in Projekten wie EWITA bei Audi\, Wissenstafette bei Volkswagen\, Expert Debriefing bei Schaeffler und Transferwerk bei Salzgitter im deutschsprachigen Markt etabliert. \n\n\n\n\n\nDas Sponsorenpaket kostet 500\,- zzgl. MwSt\, es beinhaltet die Nennung auf der Website und in der Dokumentation der Veranstaltung sowie drei Online-Tickets. Bei Interesse gerne melden. \n\n\n\nAnmeldung\n\n\n\n\n\n\n\nHinweis: die Tickets können mit Rechnung\, mit Kreditkarte oder Paypal gekauft werden. Die Teilnahme an Masterclass oder Barcamp ist auch einzeln möglich. Für die Zahlung mit Rechnung (z.B. über die Buchhaltung eines Unternehmens) bei der Zahlungsmethode einfach „Banküberweisung“ auswählen. Ihr erhaltet dann eine Rechnung als PDF-Datei. \n\n\n\n\nTicket kaufen
URL:https://cogneon.de/event/wissenstransfermasterclass-2026-geballtes-praxiswissen-zu-wissenstransfer-wissensbewahrung/
ATTACH;FMTTYPE=image/png:https://cogneon.de/wp-content/uploads/2026/03/wtc26-key-visual.png
END:VEVENT
BEGIN:VEVENT
DTSTART;TZID=Europe/Berlin:20260924T100000
DTEND;TZID=Europe/Berlin:20260924T170000
DTSTAMP:20260420T034857
CREATED:20260325T142913Z
LAST-MODIFIED:20260325T211141Z
UID:10000455-1790244000-1790269200@cogneon.de
SUMMARY:WissensTransferCamp 2026 - Das Barcamp zu Wissenstransfer & Wissensbewahrung
DESCRIPTION:Das 3. WissensTransferCamp (#wtc26\, 24.09.) ist die zentrale Veranstaltung für die Themen Wissenstransfer & Wissensbewahrung in Organisationen im deutschsprachigen Raum. Sie ist aus dem Expert Debriefing Moderator:innen Meetup hervorgegangen\, das über die Pandemie „eingeschlafen“ ist. Mit der vorgelagerten WissensTransferMasterclass (23.09.)\, in der vier langjährige Expert:innen tiefe Einblicke in ihre Praxis geben\, bieten die zwei Tage geballtes Wissen aus der Praxis. Beide Veranstaltungen können unabhängig voneinander gebucht werden\, die Masterclass ist in Präsenz\, beim Barcamp ist hybride Teilnahme per Microsoft Teams möglich. \n\n\n\n\n\n\n\n\n\n\n\n\nTicket kaufen\n\n\n\nDokumentation wtc25\n\n\n\n\n–DAYS–HOURS–MINUTES–SECONDS\n\n\n\n\n\n\n\n\n\n\n\nDas WissensTransferCamp bietet 45-minütigen\, interaktive Sessions im Barcamp-Format zu Themen rund um Expert Debriefing\, Wissensstafette\, Wissenstransfer & Co. (falls Du noch nie auf einem Barcamp warst\, schaue dir dieses Video unten an). Das WissensTransferCamp findet in hybridem Format (vor Ort und Online) in der Cogneon Akademie in Nürnberg (max. 30 Plätze) und über Microsoft Teams statt. \n\n\n\n\n								„Was ist ein BarCamp? (CC BY)“ von YouTube anzeigen																			Hier klicken\, um den Inhalt von YouTube anzuzeigen.										Erfahre mehr in der Datenschutzerklärung von YouTube.		 												Inhalt von YouTube immer anzeigen					 														„Was ist ein BarCamp? (CC BY)“ direkt öffnen																				\n\n\n\n\n\n\n\n\nBeim WissensTransferCamp sind maximal 12 Sessions möglich (4 Runden mit je drei Sessions parallel). Die Sessions können am Vormittag nach der Vorstellungsrunde gepitcht (vorgestellt) werden. Alle Teilnehmende stimmen per Handzeichen ab\, die Sessions mit den meisten Stimmen kommen in den Sessionplan. Die Dokumentation erfolgt auf der Community-Plattform CONNECT und im offenen Wiki COPEDIA. \n\n\n\n\n\n\n\nSponsoren\n\n\n\n\n\n\n\n\n\n\n\nsynartIQ befähigt Menschen und Organisationen\, Wissen zu teilen\, zu entwickeln und zu bewahren\, um den Verlust dieser wertvollen Ressource zu verhindern. Im Rahmen des WTC wird Christian Keller die Lektion „Organisationale Verankerung von Wissenstransfer“ in der Masterclass vorstellen. \n\n\n\n\n\n\n\n\n\n\n\n\n\nAls Ausgründung des Lehrstuhls für Künstliche Intelligenz der Friedrich-Alexander-Universität Erlangen-Nürnberg hat Cogneon mit dem Expert Debriefing einen Standardprozess des Wissenstransfers definiert und in Projekten wie EWITA bei Audi\, Wissenstafette bei Volkswagen\, Expert Debriefing bei Schaeffler und Transferwerk bei Salzgitter im deutschsprachigen Markt etabliert. \n\n\n\n\n\nDas Sponsorenpaket kostet 500\,- zzgl. MwSt\, es beinhaltet die Nennung auf der Website und in der Dokumentation der Veranstaltung sowie drei Online-Tickets. Bei Interesse gerne melden. \n\n\n\nAnmeldung\n\n\n\n\n\n\n\nHinweis: die Tickets können mit Rechnung\, mit Kreditkarte oder Paypal gekauft werden. Die Teilnahme an Masterclass oder Barcamp ist auch einzeln möglich. Für die Zahlung mit Rechnung (z.B. über die Buchhaltung eines Unternehmens) bei der Zahlungsmethode einfach „Banküberweisung“ auswählen. Ihr erhaltet dann eine Rechnung als PDF-Datei. \n\n\n\n\nTicket kaufen
URL:https://cogneon.de/event/wissenstransfercamp-2026-geballtes-praxiswissen-zu-wissenstransfer-wissensbewahrung/
ATTACH;FMTTYPE=image/png:https://cogneon.de/wp-content/uploads/2026/03/wtc26-key-visual.png
END:VEVENT
BEGIN:VEVENT
DTSTART;TZID=Europe/Berlin:20261019T130000
DTEND;TZID=Europe/Berlin:20261126T120000
DTSTAMP:20260420T034858
CREATED:20260325T153852Z
LAST-MODIFIED:20260325T211201Z
UID:10000457-1792414800-1795694400@cogneon.de
SUMMARY:Lernreise Personal Knowledge Excellence 2026
DESCRIPTION:Die 3. Lernreise „Personal Knowledge Excellence“ (pke26) findet vom 19. Oktober bis zum 26. November 2026 statt. Die Teilnehmer:innen werden ihre Fähigkeiten in sechs Modulen zu persönlichem Wissens- und Informationsmanagement auf- und ausbauen. Jede Woche gibt es eine Livesession mit Impulsen (Montags\, 13-14 Uhr) und eine Session zum Austausch von Erfahrungen (Donnerstags\, 11-12 Uhr). Ein exklusiver Community-Bereich dient dem Dialog auch zwischen den Sessions. \n\n\n\n\n\n\n\n\n\n\n\nZur Lernreise anmeldenAlleine\, im Tandem oder im Learning Circle \n\n\n\n\n\n\n\nFormat\n\n\n\nDie Lernreise Personal Knowledge Excellence findet in synchronen und asynchronen Lernformen über einen Zeitraum von sechs Wochen statt: \n\n\n\n\nLivesessions mit Experten-Input jeweils Montag von 13-14 Uhr per MS Teams\n\n\n\nSessions zum Erfahrungsaustausch jeweils Donnerstags von 11-12 Uhr per MS Teams\n\n\n\nGemeinsames Whiteboard (Conceptboard) zur Dokumentation und Sammlung von Ideen\, Tipps\, Literatur\, Links etc.\n\n\n\nExklusiver Community-Bereich auf CONNECT für den Austausch und die Vernetzung 24/7\n\n\n\n\n\nAI First PKM\n\n\n\nDie AI First KM Perspektive setzt des Prinzips „Always put AI at the table“ von Ethan Mollick (*) bei allen Überlegungen zum Wissensmanagement immer die KI mit an den Tisch. Diesem Prinzip werden wir auch bei der PKE Lernreise folgen. Alle Teilnehmenden erhalten KI-basierte Zusammenfassungen von Büchern zum persönlichen Wissensmanagement\, die in eigenen KI-Tools verwendet werden können. Außerdem stellen wir wöchentliche Prompts für die Aufgaben der Woche bereit\, mit denen Ihr Eure KI als Lerncoach verwenden könnt. Bei der Wahl Eures KI-Tools seid ihr völlig frei\, verwendet gerne Microsoft Copilot\, ChatGPT\, Claude\, Gemini & Co. oder auch lokale KI-Tools. Aber denkt daran: „always be the human in the loop“! \n\n\n\n\n\n\n\n\nModule\n\n\n\nDie Inhalte aus den Impulsen in den Livesessions der sechs Module werden allen Teilnehmer:innen zur persönlichen Verwendung zur Verfügung gestellt. Die Inhalte der Module auf einen Blick: \n\n\n\n\nOktober 19\, 2026Modul 1: Personal Knowledge Excellence 101Dieses Modul legt das Fundament der Lernreise. Du lernst das PKE-Referenzmodell mit seinen fünf Dimensionen kennen und verstehst\, warum systematisches Wissensmanagement in der heutigen Arbeitswelt entscheidend ist. Mit unseren Vorlagen machst du eine erste Bestandsaufnahme deiner aktuellen Wissensarbeit – und legst damit die Basis für dein persönliches Verbesserungsprojekt über die nächsten Wochen. Oktober 19\, 2026\n\n\n\nOktober 26\, 2026Modul 2: Den Digitalen Arbeitsplatz im Griff behaltenTools\, Apps und Plattformen gibt es in Hülle und Fülle — doch welche davon unterstützen wirklich deine Wissensarbeit? In diesem Modul analysierst du dein persönliches Tool-Ökosystem anhand eines Whiteboard-Arbeitsblatts und entscheidest bewusst\, welche Werkzeuge du behalten\, abgeben oder neu einführen möchtest. Das Ergebnis: ein schlankes\, zu dir passendes digitales Wissens-Arbeitsumfeld. Oktober 26\, 2026\n\n\n\nNovember 2\, 2026Modul 3: Wissens- und Lernziele definierenOhne klare Ziele verkommt Wissensmanagement zur Beschäftigung ohne Richtung. In diesem Modul entwickelst du kurz-\, mittel- und langfristige Wissens- und Lernziele\, die zu deinen Aufgaben und deiner persönlichen Entwicklung passen. Du lernst\, wie du Ziele so formulierst\, dass sie dein tägliches Lernen fokussieren – und wie GenAI dabei als Sparringspartner dienen kann. November 2\, 2026\n\n\n\nNovember 9\, 2026Modul 4: Wissensintensive Aufaben managenWissensarbeit ist dann produktiv\, wenn du weißt\, was wirklich deine Aufgabe ist – eine zentrale Erkenntnis von Peter Drucker. In diesem Modul analysierst du deine wissensintensiven Tätigkeiten\, identifizierst Potenziale zur Verbesserung durch strukturierte Methoden und KI-Unterstützung und entwickelst konkrete Routinen für einen produktiveren Arbeitsalltag. November 9\, 2026\n\n\n\nNovember 16\, 2026Modul 5: Wissensgebiete visualisieren und strukturierenWelche Themen sind für deine Aufgaben und Ziele wirklich relevant — und wie behältst du in der Informationsflut den Überblick? Dieses Modul zeigt dir\, wie du deine persönlichen Wissensgebiete kartierst\, strukturierst und mit Werkzeugen wie MindMaps\, Concept Maps und persönlichen Wissensdatenbanken greifbar machst. Dein „Second Brain“ bekommt damit eine klare Architektur. November 16\, 2026\n\n\n\nNovember 24\, 2026Modul 6: Wissen teilen mit Haltung und Offenheit Wissen entfaltet seinen vollen Wert erst\, wenn es geteilt wird. In diesem Abschlussmodul vertiefst du die Haltungsfrage\, die zu Beginn der Lernreise aufgeworfen wurde: Wie offen bin ich bereit\, mein Wissen zu teilen — und was hält mich davon ab? Du entwickelst einen konkreten Plan\, wie du in den Wochen nach der Lernreise mit Blogs\, Wikis\, Podcasts oder Social Media erste Schritte ins offene Teilen wagst. November 24\, 2026\n\n\n\n\nAnmeldung\n\n\n\nDie Teilnahme an der Lernreise kostet € 480\,- (inkl. MwSt.). Für Organisationen und Learning Circle gibt es rabattierte Tickets für Gruppen von 5 bzw. 10 Personen (20-30% Nachlass). Gemeinnützige Organisationen erhalten gegen Nachweis einen Rabatt von 50% auf alle Ticketkategorien (Rabattcode „nonprofit“) bei der Anmeldung mit angeben. \n\n\n\nZur Lernreise anmeldenAlleine\, im Tandem oder im Learning Circle
URL:https://cogneon.de/event/lernreise-personal-knowledge-excellence-2026/
ATTACH;FMTTYPE=image/png:https://cogneon.de/wp-content/uploads/2026/03/pke26-key-visual.png
END:VEVENT
BEGIN:VEVENT
DTSTART;TZID=Europe/Berlin:20261118T100000
DTEND;TZID=Europe/Berlin:20261119T160000
DTSTAMP:20260420T034858
CREATED:20251218T092332Z
LAST-MODIFIED:20251218T092336Z
UID:10000450-1794996000-1795104000@cogneon.de
SUMMARY:Expert Debriefing Praxis-Ausbildung Herbst 2026 (edmod26b)
DESCRIPTION:Das Risiko von Wissensverlust durch Demografischen Wandel\, Fachkräftemangel und längere Abwesenheiten ist groß. Mit der Methode Expert Debriefing bietet die Cogneon Akademie ein seit 1999 praxiserprobtes Verfahren für den systematischen Wissenstransfer an. Über die Praxis-Ausbildung für Expert-Debriefing-Moderator:innen erlernst du die Methode\, erhälst alle Vorlagen und Dokumentationen für die eigene Verwendung und festigst dein Wissen in einem persönlichen Praxis-Projekt. \n\n\n\nHinweis: an der Praxis-Ausbilung kann man vor Ort in Nürnberg (Anfahrt) oder Online per Microsoft Teams teilnehmen. Das zugehörige Live-Online-Training ist am 09.11. von 15:00-15:55 Uhr. \n\n\n\n\nMehr Informationen\n\n\n\nAnmeldung
URL:https://cogneon.de/event/expert-debriefing-praxis-ausbildung-herbst-2026-edmod26b/
ATTACH;FMTTYPE=image/png:https://cogneon.de/wp-content/uploads/2023/10/edmod-banner.png
END:VEVENT
END:VCALENDAR